BEGIN:VCALENDAR
PRODID:-//CB - CityU of HK//Event System//EN
VERSION:2.0
X-WR-CALNAME:CB Events
X-APPLE-CALENDAR-COLOR:#B90E28
BEGIN:VEVENT
DTSTAMP:20260421T205730Z
SUMMARY:[Brown Bag] AI for Social Science: How Large Language Models Tran
 sform Research in Management by Prof. Ning Li\, Tsinghua University
LOCATION:LAU-14-222\, Level 14\, Lau Ming Wai Academic Building (LAU)
TZID:Asia/Hong_Kong
SEQUENCE:0
UID:82604D5D59D02D303B129F65DA3AC60C-38059@cb.cityu.edu.hk
DTSTART;TZID=Asia/Hong_Kong:20260423T140000
DTEND;TZID=Asia/Hong_Kong:20260423T153000
LAST-MODIFIED:20260420T015430Z
END:VEVENT
BEGIN:VTIMEZONE
TZID:Asia/Hong_Kong
X-LIC-LOCATION:Asia/Hong_Kong
BEGIN:STANDARD
DTSTART:19041030T003642
RDATE:19041030T003642
TZNAME:HKT
TZOFFSETFROM:+073642
TZOFFSETTO:+0800
END:STANDARD
BEGIN:DAYLIGHT
DTSTART:19410615T033000
RDATE:19410615T033000
RDATE:19460420T033000
RDATE:19470413T033000
RDATE:19480502T033000
RDATE:19731230T033000
RDATE:19790513T033000
TZNAME:HKST
TZOFFSETFROM:+0800
TZOFFSETTO:+0900
END:DAYLIGHT
BEGIN:STANDARD
DTSTART:19411001T040000
RDATE:19411001T040000
TZNAME:HKT
TZOFFSETFROM:+0900
TZOFFSETTO:+0830
END:STANDARD
BEGIN:STANDARD
DTSTART:19411225T000000
RDATE:19411225T000000
TZNAME:JST
TZOFFSETFROM:+0830
TZOFFSETTO:+0900
END:STANDARD
BEGIN:STANDARD
DTSTART:19450916T000000
RDATE:19450916T000000
TZNAME:HKST
TZOFFSETFROM:+0900
TZOFFSETTO:+0800
END:STANDARD
BEGIN:STANDARD
DTSTART:19461201T033000
RDATE:19461201T033000
RDATE:19471230T033000
RDATE:19541031T033000
RDATE:19791021T033000
TZNAME:HKT
TZOFFSETFROM:+0900
TZOFFSETTO:+0800
END:STANDARD
BEGIN:STANDARD
DTSTART:19481031T033000
RRULE:FREQ=YEARLY;UNTIL=19511027T183000Z;BYMONTH=10;BYDAY=-1SU
TZNAME:HKT
TZOFFSETFROM:+0900
TZOFFSETTO:+0800
END:STANDARD
BEGIN:DAYLIGHT
DTSTART:19490403T033000
RRULE:FREQ=YEARLY;UNTIL=19530404T193000Z;BYMONTH=4;BYDAY=1SU
TZNAME:HKST
TZOFFSETFROM:+0800
TZOFFSETTO:+0900
END:DAYLIGHT
BEGIN:STANDARD
DTSTART:19521102T033000
RRULE:FREQ=YEARLY;UNTIL=19531031T183000Z;BYMONTH=11;BYDAY=1SU
TZNAME:HKT
TZOFFSETFROM:+0900
TZOFFSETTO:+0800
END:STANDARD
BEGIN:DAYLIGHT
DTSTART:19540321T033000
RRULE:FREQ=YEARLY;UNTIL=19640321T193000Z;BYMONTH=3;BYDAY=-2SU
TZNAME:HKST
TZOFFSETFROM:+0800
TZOFFSETTO:+0900
END:DAYLIGHT
BEGIN:STANDARD
DTSTART:19551106T033000
RRULE:FREQ=YEARLY;UNTIL=19641031T183000Z;BYMONTH=11;BYDAY=1SU
TZNAME:HKT
TZOFFSETFROM:+0900
TZOFFSETTO:+0800
END:STANDARD
BEGIN:DAYLIGHT
DTSTART:19650418T033000
RRULE:FREQ=YEARLY;UNTIL=19730421T193000Z;BYMONTH=4;BYMONTHDAY=16,17,18,19
 ,20,21,22;BYDAY=SU
TZNAME:HKST
TZOFFSETFROM:+0800
TZOFFSETTO:+0900
END:DAYLIGHT
BEGIN:STANDARD
DTSTART:19651017T033000
RRULE:FREQ=YEARLY;UNTIL=19761016T183000Z;BYMONTH=10;BYMONTHDAY=16,17,18,1
 9,20,21,22;BYDAY=SU
TZNAME:HKT
TZOFFSETFROM:+0900
TZOFFSETTO:+0800
END:STANDARD
BEGIN:DAYLIGHT
DTSTART:19740421T033000
RDATE:19740421T033000
TZNAME:HKST
TZOFFSETFROM:+0900
TZOFFSETTO:+0900
END:DAYLIGHT
BEGIN:DAYLIGHT
DTSTART:19750420T033000
RRULE:FREQ=YEARLY;UNTIL=19760417T193000Z;BYMONTH=4;BYMONTHDAY=16,17,18,19
 ,20,21,22;BYDAY=SU
TZNAME:HKST
TZOFFSETFROM:+0800
TZOFFSETTO:+0900
END:DAYLIGHT
END:VTIMEZONE
END:VCALENDAR
